BEGIN:VCALENDAR
PRODID:-//climbIT//Tourenangebot//DE
VERSION:2.0
METHOD:PUBLISH
BEGIN:VEVENT
UID:tour-195004e5-bd66-49cd-9e04-1e2c6dae5a2b@touren.sac-bluemlisalp.ch
DTSTAMP:20260421T110618
SEQUENCE:0
CLASS:PUBLIC
TRANSP:OPAQUE
DTSTART;VALUE=DATE:20220207
DTEND;VALUE=DATE:20220208
SUMMARY:Sektion Blümlisalp: Klettern Techniktraining
DESCRIPTION:Nach deiner Anmeldung und bei jeder Statusänderung wird ein Kalendereintrag per E-Mail verschickt.\n\nAktuelle Informationen\nTourenlink: https://touren.sac-bluemlisalp.ch/tours/view/195004e5-bd66-49cd-9e04-1e2c6dae5a2b\n\n\nDein Tourenangebot Team
END:VEVENT
END:VCALENDAR