BEGIN:VCALENDAR
PRODID:-//climbIT//Tourenangebot//DE
VERSION:2.0
METHOD:PUBLISH
BEGIN:VEVENT
UID:tour-4261ab61-6807-4a08-8692-d57b40b98837@touren.sac-bluemlisalp.ch
DTSTAMP:20260420T120658
SEQUENCE:0
CLASS:PUBLIC
TRANSP:OPAQUE
DTSTART;VALUE=DATE:20240629
DTEND;VALUE=DATE:20240701
SUMMARY:Sektion Blümlisalp: Jubiläumstour: Blümlisalphorn NW-Grat (Normalroute)
DESCRIPTION:Nach deiner Anmeldung und bei jeder Statusänderung wird ein Kalendereintrag per E-Mail verschickt.\n\nAktuelle Informationen\nTourenlink: https://touren.sac-bluemlisalp.ch/tours/view/4261ab61-6807-4a08-8692-d57b40b98837\n\n\nDein Tourenangebot Team
END:VEVENT
END:VCALENDAR