BEGIN:VCALENDAR
PRODID:-//climbIT//Tourenangebot//DE
VERSION:2.0
METHOD:PUBLISH
BEGIN:VEVENT
UID:tour-51515cc5-9754-4462-ad88-2d2bc275309b@touren.sac-bluemlisalp.ch
DTSTAMP:20260420T104806
SEQUENCE:0
CLASS:PUBLIC
TRANSP:OPAQUE
DTSTART;VALUE=DATE:20210312
DTEND;VALUE=DATE:20210315
SUMMARY:Sektion Blümlisalp: Skitouren-Vertiefungskurs Wildhorn/Wildstrubel
DESCRIPTION:Nach deiner Anmeldung und bei jeder Statusänderung wird ein Kalendereintrag per E-Mail verschickt.\n\nAktuelle Informationen\nTourenlink: https://touren.sac-bluemlisalp.ch/tours/view/51515cc5-9754-4462-ad88-2d2bc275309b\n\n\nDein Tourenangebot Team
END:VEVENT
END:VCALENDAR