BEGIN:VCALENDAR
PRODID:-//climbIT//Tourenangebot//DE
VERSION:2.0
METHOD:PUBLISH
BEGIN:VEVENT
UID:tour-5bb1fbae-0368-4a0d-acb3-04baac120010@touren.sac-bluemlisalp.ch
DTSTAMP:20260422T032524
SEQUENCE:0
CLASS:PUBLIC
TRANSP:OPAQUE
DTSTART;VALUE=DATE:20190907
DTEND;VALUE=DATE:20190909
SUMMARY:Sektion Blümlisalp: Rosenhorn, 3690 m.ü.M
DESCRIPTION:Nach deiner Anmeldung und bei jeder Statusänderung wird ein Kalendereintrag per E-Mail verschickt.\n\nAktuelle Informationen\nTourenlink: https://touren.sac-bluemlisalp.ch/tours/view/5bb1fbae-0368-4a0d-acb3-04baac120010\n\n\nDein Tourenangebot Team
END:VEVENT
END:VCALENDAR