BEGIN:VCALENDAR
PRODID:-//climbIT//Tourenangebot//DE
VERSION:2.0
METHOD:PUBLISH
BEGIN:VEVENT
UID:tour-5c135670-33e8-43a9-92aa-06f9ac120010@touren.sac-bluemlisalp.ch
DTSTAMP:20260424T111447
SEQUENCE:0
CLASS:PUBLIC
TRANSP:OPAQUE
DTSTART;VALUE=DATE:20190705
DTEND;VALUE=DATE:20190706
SUMMARY:Sektion Blümlisalp: Wanderung mit Imbiss
DESCRIPTION:Nach deiner Anmeldung und bei jeder Statusänderung wird ein Kalendereintrag per E-Mail verschickt.\n\nAktuelle Informationen\nTourenlink: https://touren.sac-bluemlisalp.ch/tours/view/5c135670-33e8-43a9-92aa-06f9ac120010\n\n\nDein Tourenangebot Team
END:VEVENT
END:VCALENDAR