BEGIN:VCALENDAR
PRODID:-//climbIT//Tourenangebot//DE
VERSION:2.0
METHOD:PUBLISH
BEGIN:VEVENT
UID:tour-5c93dba9-bd38-40f6-b3ff-0d0dac120010@touren.sac-bluemlisalp.ch
DTSTAMP:20260419T212243
SEQUENCE:0
CLASS:PUBLIC
TRANSP:OPAQUE
DTSTART;VALUE=DATE:20200409
DTEND;VALUE=DATE:20200410
SUMMARY:Sektion Blümlisalp: Hünibach-Balmfluh-Gummischlucht-Sigriswil
DESCRIPTION:Nach deiner Anmeldung und bei jeder Statusänderung wird ein Kalendereintrag per E-Mail verschickt.\n\nAktuelle Informationen\nTourenlink: https://touren.sac-bluemlisalp.ch/tours/view/5c93dba9-bd38-40f6-b3ff-0d0dac120010\n\n\nDein Tourenangebot Team
END:VEVENT
END:VCALENDAR