BEGIN:VCALENDAR
PRODID:-//climbIT//Tourenangebot//DE
VERSION:2.0
METHOD:PUBLISH
BEGIN:VEVENT
UID:tour-5d7e5f51-4e0c-4d7c-960a-0c03ac120010@touren.sac-bluemlisalp.ch
DTSTAMP:20260420T072546
SEQUENCE:0
CLASS:PUBLIC
TRANSP:OPAQUE
DTSTART;VALUE=DATE:20200229
DTEND;VALUE=DATE:20200301
SUMMARY:Sektion Blümlisalp: Skitour Mägisserhorn ab Springenboden
DESCRIPTION:Nach deiner Anmeldung und bei jeder Statusänderung wird ein Kalendereintrag per E-Mail verschickt.\n\nAktuelle Informationen\nTourenlink: https://touren.sac-bluemlisalp.ch/tours/view/5d7e5f51-4e0c-4d7c-960a-0c03ac120010\n\n\nDein Tourenangebot Team
END:VEVENT
END:VCALENDAR