BEGIN:VCALENDAR
PRODID:-//climbIT//Tourenangebot//DE
VERSION:2.0
METHOD:PUBLISH
BEGIN:VEVENT
UID:tour-5d7e6dc4-0f18-42ab-a859-0bf2ac120010@touren.sac-bluemlisalp.ch
DTSTAMP:20260420T072316
SEQUENCE:0
CLASS:PUBLIC
TRANSP:OPAQUE
DTSTART;VALUE=DATE:20200215
DTEND;VALUE=DATE:20200216
SUMMARY:Sektion Blümlisalp: Bundstock 2'756m
DESCRIPTION:Nach deiner Anmeldung und bei jeder Statusänderung wird ein Kalendereintrag per E-Mail verschickt.\n\nAktuelle Informationen\nTourenlink: https://touren.sac-bluemlisalp.ch/tours/view/5d7e6dc4-0f18-42ab-a859-0bf2ac120010\n\n\nDein Tourenangebot Team
END:VEVENT
END:VCALENDAR