BEGIN:VCALENDAR
PRODID:-//climbIT//Tourenangebot//DE
VERSION:2.0
METHOD:PUBLISH
BEGIN:VEVENT
UID:tour-5d7f7155-0b4c-4a1d-b55e-0c19ac120010@touren.sac-bluemlisalp.ch
DTSTAMP:20260419T152951
SEQUENCE:0
CLASS:PUBLIC
TRANSP:OPAQUE
DTSTART;VALUE=DATE:20191229
DTEND;VALUE=DATE:20191230
SUMMARY:Sektion Blümlisalp: Wistätthorn, ab Saanersloch/Parwenge
DESCRIPTION:Nach deiner Anmeldung und bei jeder Statusänderung wird ein Kalendereintrag per E-Mail verschickt.\n\nAktuelle Informationen\nTourenlink: https://touren.sac-bluemlisalp.ch/tours/view/5d7f7155-0b4c-4a1d-b55e-0c19ac120010\n\n\nDein Tourenangebot Team
END:VEVENT
END:VCALENDAR