BEGIN:VCALENDAR
PRODID:-//climbIT//Tourenangebot//DE
VERSION:2.0
METHOD:PUBLISH
BEGIN:VEVENT
UID:tour-5d7fa769-bf50-40be-8271-0c1fac120010@touren.sac-bluemlisalp.ch
DTSTAMP:20260424T105422
SEQUENCE:0
CLASS:PUBLIC
TRANSP:OPAQUE
DTSTART;VALUE=DATE:20200131
DTEND;VALUE=DATE:20200201
SUMMARY:Sektion Blümlisalp: Albristhubel
DESCRIPTION:Nach deiner Anmeldung und bei jeder Statusänderung wird ein Kalendereintrag per E-Mail verschickt.\n\nAktuelle Informationen\nTourenlink: https://touren.sac-bluemlisalp.ch/tours/view/5d7fa769-bf50-40be-8271-0c1fac120010\n\n\nDein Tourenangebot Team
END:VEVENT
END:VCALENDAR