BEGIN:VCALENDAR
PRODID:-//climbIT//Tourenangebot//DE
VERSION:2.0
METHOD:PUBLISH
BEGIN:VEVENT
UID:tour-5d8b017b-b730-44d3-b3d8-0c6dac120010@touren.sac-bluemlisalp.ch
DTSTAMP:20260420T105055
SEQUENCE:0
CLASS:PUBLIC
TRANSP:OPAQUE
DTSTART;VALUE=DATE:20200201
DTEND;VALUE=DATE:20200203
SUMMARY:Sektion Blümlisalp: Freeride Weekend
DESCRIPTION:Nach deiner Anmeldung und bei jeder Statusänderung wird ein Kalendereintrag per E-Mail verschickt.\n\nAktuelle Informationen\nTourenlink: https://touren.sac-bluemlisalp.ch/tours/view/5d8b017b-b730-44d3-b3d8-0c6dac120010\n\n\nDein Tourenangebot Team
END:VEVENT
END:VCALENDAR