BEGIN:VCALENDAR
PRODID:-//climbIT//Tourenangebot//DE
VERSION:2.0
METHOD:PUBLISH
BEGIN:VEVENT
UID:tour-5e9c5de0-f9a8-4745-9ca0-0068ac120004@touren.sac-bluemlisalp.ch
DTSTAMP:20260424T105001
SEQUENCE:0
CLASS:PUBLIC
TRANSP:OPAQUE
DTSTART;VALUE=DATE:20210501
DTEND;VALUE=DATE:20210504
SUMMARY:Sektion Blümlisalp: Gletschertrekking Jungfraujoch - Lötschenlücke
DESCRIPTION:Nach deiner Anmeldung und bei jeder Statusänderung wird ein Kalendereintrag per E-Mail verschickt.\n\nAktuelle Informationen\nTourenlink: https://touren.sac-bluemlisalp.ch/tours/view/5e9c5de0-f9a8-4745-9ca0-0068ac120004\n\n\nDein Tourenangebot Team
END:VEVENT
END:VCALENDAR