BEGIN:VCALENDAR
PRODID:-//climbIT//Tourenangebot//DE
VERSION:2.0
METHOD:PUBLISH
BEGIN:VEVENT
UID:tour-cfc40db1-08b7-4d1a-a78e-a7ebe4443ffe@touren.sac-bluemlisalp.ch
DTSTAMP:20260420T120453
SEQUENCE:0
CLASS:PUBLIC
TRANSP:OPAQUE
DTSTART;VALUE=DATE:20250209
DTEND;VALUE=DATE:20250210
SUMMARY:Sektion Blümlisalp: Männliflue im Diemtigtal
DESCRIPTION:Nach deiner Anmeldung und bei jeder Statusänderung wird ein Kalendereintrag per E-Mail verschickt.\n\nAktuelle Informationen\nTourenlink: https://touren.sac-bluemlisalp.ch/tours/view/cfc40db1-08b7-4d1a-a78e-a7ebe4443ffe\n\n\nDein Tourenangebot Team
END:VEVENT
END:VCALENDAR