BEGIN:VCALENDAR
PRODID:-//climbIT//Tourenangebot//DE
VERSION:2.0
METHOD:PUBLISH
BEGIN:VEVENT
UID:tour-efe32f50-9f85-46cc-b108-821e061681b2@touren.sac-bluemlisalp.ch
DTSTAMP:20260421T110711
SEQUENCE:0
CLASS:PUBLIC
TRANSP:OPAQUE
DTSTART;VALUE=DATE:20240822
DTEND;VALUE=DATE:20240823
SUMMARY:Sektion Blümlisalp: Abendliches Sportklettern draussen
DESCRIPTION:Nach deiner Anmeldung und bei jeder Statusänderung wird ein Kalendereintrag per E-Mail verschickt.\n\nAktuelle Informationen\nTourenlink: https://touren.sac-bluemlisalp.ch/tours/view/efe32f50-9f85-46cc-b108-821e061681b2\n\n\nDein Tourenangebot Team
END:VEVENT
END:VCALENDAR