BEGIN:VCALENDAR
PRODID:-//climbIT//Tourenangebot//DE
VERSION:2.0
METHOD:PUBLISH
BEGIN:VEVENT
UID:tour-f9721f68-a4e7-4a59-9c44-8dc1b5c70a7e@touren.sac-bluemlisalp.ch
DTSTAMP:20260421T111930
SEQUENCE:0
CLASS:PUBLIC
TRANSP:OPAQUE
DTSTART;VALUE=DATE:20210707
DTEND;VALUE=DATE:20210708
SUMMARY:Sektion Blümlisalp: Gehrihorn
DESCRIPTION:Nach deiner Anmeldung und bei jeder Statusänderung wird ein Kalendereintrag per E-Mail verschickt.\n\nAktuelle Informationen\nTourenlink: https://touren.sac-bluemlisalp.ch/tours/view/f9721f68-a4e7-4a59-9c44-8dc1b5c70a7e\n\n\nDein Tourenangebot Team
END:VEVENT
END:VCALENDAR